BEGIN:VCALENDAR
VERSION:2.0
PRODID:-//eventon.com NONSGML v1.0//EN
CALSCALE:GREGORIAN
METHOD:PUBLISH
BEGIN:VEVENT
UID:69e73079ac214
DTSTAMP:20260421T080825Z
DTSTART:20250312T180000Z
DTEND:20250312T200000Z
LOCATION:DFGZ Digitales Facharzt- und Gesundheitszentrum In der Trift 30
SUMMARY:Schlaf: Schlafstörung und Therapieoptionen
DESCRIPTION:Referenten Dr. med. Bernd Wendtland\,  Neurologe\,  Neurozentru
 m am Kreiskrankenhaus in Grevenbroich &nbsp; Online teilnehmen / registrier
 en\nhttps://aerzteverein-kreis-olpe.de/events/schlaf-schlafstoerung-und-the
 rapieoptionen/
URL:https://aerzteverein-kreis-olpe.de/events/schlaf-schlafstoerung-und-therapieoptionen/
END:VEVENT
END:VCALENDAR