BEGIN:VCALENDAR
VERSION:2.0
PRODID:-//eventon.com NONSGML v1.0//EN
CALSCALE:GREGORIAN
METHOD:PUBLISH
BEGIN:VEVENT
UID:69e730400dc40
DTSTAMP:20260421T080728Z
DTSTART:20250319T150000Z
DTEND:20250319T163000Z
LOCATION:DFGZ Digitales Facharzt- und Gesundheitszentrum In der Trift 30
SUMMARY:Digitale Gesundheitsanwendungen - KHK und Herzinfarkt.
DESCRIPTION:Veranstaltungen für Patienten und interessierte Referenten Dr.
  Brian Budde. Wissenschaftlicher Außendienst bei G. Pohl Boskamp &nbsp; On
 line teilnehmen / registrieren\nhttps://aerzteverein-kreis-olpe.de/events/d
 igitale-gesundheitsanwendungen-khk-und-herzinfarkt/
URL:https://aerzteverein-kreis-olpe.de/events/digitale-gesundheitsanwendungen-khk-und-herzinfarkt/
END:VEVENT
END:VCALENDAR